BEGIN:VCALENDAR
PRODID:-//eluceo/ical//2.0/EN
VERSION:2.0
CALSCALE:GREGORIAN
BEGIN:VEVENT
UID:3bcd42f03aa0039c007c6ffe6dbd9f8c
DTSTAMP:20260424T085545Z
SUMMARY:Besuch des Distrikt Governors
DESCRIPTION:Webbplats: https://www.einstein.ch/en/\nTalare: Stefan Buser -
  Distrikt Governor (DG)\, 2024-2025
URL:https://rotaract-stgallen.ch/sv/agenda/show/192091
DTSTART;TZID=Europe/Zurich:20250306T184500
DTEND;TZID=Europe/Zurich:20250306T220000
LOCATION:Einstein St.Gallen
CATEGORIES:Rotaract
END:VEVENT
BEGIN:VTIMEZONE
TZID:Europe/Zurich
BEGIN:STANDARD
DTSTART:20250306T184500
TZNAME:CET
TZOFFSETTO:+0100
TZOFFSETFROM:+0100
END:STANDARD
END:VTIMEZONE
END:VCALENDAR
