BEGIN:VCALENDAR
PRODID:-//eluceo/ical//2.0/EN
VERSION:2.0
CALSCALE:GREGORIAN
BEGIN:VEVENT
UID:cad2474324d92f92a4411e0f2f6c6857
DTSTAMP:20260422T192738Z
SUMMARY:Ohne Rechtsstaat keine Demokratie
DESCRIPTION:Sprekers: Prof. Dr. Udo di Fabio: mit Rotary E-Club Kölnhttps
 ://us02web.zoom.us/j/88184619795
URL:https://rotaract-stgallen.ch/nl/agenda/show/169449
DTSTART;TZID=Europe/Zurich:20231204T210000
DTEND;TZID=Europe/Zurich:20231204T225500
LOCATION:Zoom
CATEGORIES:Rotaract
END:VEVENT
BEGIN:VTIMEZONE
TZID:Europe/Zurich
BEGIN:STANDARD
DTSTART:20231204T210000
TZNAME:CET
TZOFFSETTO:+0100
TZOFFSETFROM:+0100
END:STANDARD
END:VTIMEZONE
END:VCALENDAR
