BEGIN:VCALENDAR
PRODID:-//eluceo/ical//2.0/EN
VERSION:2.0
CALSCALE:GREGORIAN
BEGIN:VEVENT
UID:0c884e197d33413bfbbeae34823082cb
DTSTAMP:20260424T085651Z
SUMMARY:REM Dublin
DESCRIPTION:
URL:https://rotaract-stgallen.ch/nl/agenda/show/149071
DTSTART;TZID=Europe/Zurich:20221020T000000
DTEND;TZID=Europe/Zurich:20221023T230000
LOCATION:Dublin
CATEGORIES:Rotaract
END:VEVENT
BEGIN:VTIMEZONE
TZID:Europe/Zurich
BEGIN:DAYLIGHT
DTSTART:20221020T000000
TZNAME:CEST
TZOFFSETTO:+0200
TZOFFSETFROM:+0200
END:DAYLIGHT
END:VTIMEZONE
END:VCALENDAR
