BEGIN:VCALENDAR
PRODID:-//eluceo/ical//2.0/EN
VERSION:2.0
CALSCALE:GREGORIAN
BEGIN:VEVENT
UID:ae2112b37e1f1a0f953187eea97756c5
DTSTAMP:20260419T141446Z
SUMMARY:Spieleabend im Pflegeheim St. Otmar
DESCRIPTION:Vefsíða: https://www.otmarsg.ch
URL:https://rotaract-stgallen.ch/is/agenda/show/190674
DTSTART;TZID=Europe/Zurich:20250501T180000
DTEND;TZID=Europe/Zurich:20250501T180000
LOCATION:im Pflegeheim St. Otmar\, St. Gallen
CATEGORIES:Rotaract
END:VEVENT
BEGIN:VTIMEZONE
TZID:Europe/Zurich
BEGIN:DAYLIGHT
DTSTART:20250501T180000
TZNAME:CEST
TZOFFSETTO:+0200
TZOFFSETFROM:+0200
END:DAYLIGHT
END:VTIMEZONE
END:VCALENDAR
