BEGIN:VCALENDAR
PRODID:-//eluceo/ical//2.0/EN
VERSION:2.0
CALSCALE:GREGORIAN
BEGIN:VEVENT
UID:e59bdb89d6cdbca747dcf6c8322b3979
DTSTAMP:20260419T141603Z
SUMMARY:Stamm
DESCRIPTION:Vefsíða: https://oya-bar.ch
URL:https://rotaract-stgallen.ch/is/agenda/show/190663
DTSTART;TZID=Europe/Zurich:20250424T190000
DTEND;TZID=Europe/Zurich:20250424T190000
LOCATION:ØYA Bar Kafé Klub\, Schwertgasse 27\, 9000 St. Gallen\, Schweiz
CATEGORIES:Rotaract
END:VEVENT
BEGIN:VTIMEZONE
TZID:Europe/Zurich
BEGIN:DAYLIGHT
DTSTART:20250424T190000
TZNAME:CEST
TZOFFSETTO:+0200
TZOFFSETFROM:+0200
END:DAYLIGHT
END:VTIMEZONE
END:VCALENDAR
