BEGIN:VCALENDAR
PRODID:-//eluceo/ical//2.0/EN
VERSION:2.0
CALSCALE:GREGORIAN
BEGIN:VEVENT
UID:44610a990cc9101dfef9eee517060aea
DTSTAMP:20260422T001026Z
SUMMARY:State of AI - IBM Watson
DESCRIPTION:Vefsíða: https://us02web.zoom.us/j/88184619795\nFyrirlesari(a
 r): Mit Rotary E-Club KölnWolfgan Hildesheim - Englishüber Zoom https:/
 /us02web.zoom.us/j/88184619795
URL:https://rotaract-stgallen.ch/is/agenda/show/169448
DTSTART;TZID=Europe/Zurich:20240304T210000
DTEND;TZID=Europe/Zurich:20240304T230000
LOCATION:digital
CATEGORIES:Rotaract
END:VEVENT
BEGIN:VTIMEZONE
TZID:Europe/Zurich
BEGIN:STANDARD
DTSTART:20240304T210000
TZNAME:CET
TZOFFSETTO:+0100
TZOFFSETFROM:+0100
END:STANDARD
END:VTIMEZONE
END:VCALENDAR
