BEGIN:VCALENDAR
PRODID:-//eluceo/ical//2.0/EN
VERSION:2.0
CALSCALE:GREGORIAN
BEGIN:VEVENT
UID:9201aae6cd2b6b47d9909d4c1cd866dc
DTSTAMP:20260422T015915Z
SUMMARY:Spieleabend im Pflegeheim St. Otmar
DESCRIPTION:Vefsíða: https://www.otmarsg.ch/
URL:https://rotaract-stgallen.ch/is/agenda/show/169444
DTSTART;TZID=Europe/Zurich:20231123T180000
DTEND;TZID=Europe/Zurich:20231123T200000
LOCATION:Pflegeheim St. Otmar
CATEGORIES:Rotaract
END:VEVENT
BEGIN:VTIMEZONE
TZID:Europe/Zurich
BEGIN:STANDARD
DTSTART:20231123T180000
TZNAME:CET
TZOFFSETTO:+0100
TZOFFSETFROM:+0100
END:STANDARD
END:VTIMEZONE
END:VCALENDAR
