BEGIN:VCALENDAR
PRODID:-//eluceo/ical//2.0/EN
VERSION:2.0
CALSCALE:GREGORIAN
BEGIN:VEVENT
UID:bf77d8b3fa8d2d0f8eaa4477c0a05929
DTSTAMP:20260422T000350Z
SUMMARY:Stammtisch
DESCRIPTION:
URL:https://rotaract-stgallen.ch/is/agenda/show/168202
DTSTART;TZID=Europe/Zurich:20231005T183000
DTEND;TZID=Europe/Zurich:20231005T220000
LOCATION:WhatsApp Gruppe
CATEGORIES:Rotaract
END:VEVENT
BEGIN:VTIMEZONE
TZID:Europe/Zurich
BEGIN:DAYLIGHT
DTSTART:20231005T183000
TZNAME:CEST
TZOFFSETTO:+0200
TZOFFSETFROM:+0200
END:DAYLIGHT
END:VTIMEZONE
END:VCALENDAR
