BEGIN:VCALENDAR
PRODID:-//eluceo/ical//2.0/EN
VERSION:2.0
CALSCALE:GREGORIAN
BEGIN:VEVENT
UID:0ce91c26ef5d793bc5e389376f7bfc3f
DTSTAMP:20260422T015635Z
SUMMARY:Rotary Action Day St. Gallen
DESCRIPTION:Fyrirlesari(ar): Genauere Infos folgen\, Event noch in Planung
URL:https://rotaract-stgallen.ch/is/agenda/show/149073
DTSTART;TZID=Europe/Zurich:20230513T000000
DTEND;TZID=Europe/Zurich:20230513T230000
LOCATION:Infos folgen
CATEGORIES:Rotaract
END:VEVENT
BEGIN:VTIMEZONE
TZID:Europe/Zurich
BEGIN:DAYLIGHT
DTSTART:20230513T000000
TZNAME:CEST
TZOFFSETTO:+0200
TZOFFSETFROM:+0200
END:DAYLIGHT
END:VTIMEZONE
END:VCALENDAR
