BEGIN:VCALENDAR
PRODID:-//eluceo/ical//2.0/EN
VERSION:2.0
CALSCALE:GREGORIAN
BEGIN:VEVENT
UID:6e1931165c2e01f0499edb1b8fe7df9d
DTSTAMP:20260422T040435Z
SUMMARY:DEUKO Konstanz
DESCRIPTION:Fyrirlesari(ar): Link zur Instagram SeiteLink zur Webseite 
URL:https://rotaract-stgallen.ch/is/agenda/show/149072
DTSTART;TZID=Europe/Zurich:20230310T000000
DTEND;TZID=Europe/Zurich:20230312T000000
LOCATION:Konstanz
CATEGORIES:Rotaract
END:VEVENT
BEGIN:VTIMEZONE
TZID:Europe/Zurich
BEGIN:STANDARD
DTSTART:20230310T000000
TZNAME:CET
TZOFFSETTO:+0100
TZOFFSETFROM:+0100
END:STANDARD
END:VTIMEZONE
END:VCALENDAR
