BEGIN:VCALENDAR
PRODID:-//eluceo/ical//2.0/EN
VERSION:2.0
CALSCALE:GREGORIAN
BEGIN:VEVENT
UID:b1bbbf362be9f4de4cc242324d6f5d29
DTSTAMP:20260421T162523Z
SUMMARY:Gallus-Stamm
DESCRIPTION:Das regelmässige Stammtreffen des Rotaract St.Gallen. Im Febru
 ar mit einem nationalen Update zu End Polio Now und dem Bericht des REM St
 . Petersburg.
URL:https://rotaract-stgallen.ch/is/agenda/show/120711
DTSTART;TZID=Europe/Zurich:20160202T201500
DTEND;TZID=Europe/Zurich:20160202T201500
LOCATION:News-Bar (Oberer Graben 8)
CATEGORIES:Rotaract
END:VEVENT
BEGIN:VTIMEZONE
TZID:Europe/Zurich
BEGIN:STANDARD
DTSTART:20160202T201500
TZNAME:CET
TZOFFSETTO:+0100
TZOFFSETFROM:+0100
END:STANDARD
END:VTIMEZONE
END:VCALENDAR
