BEGIN:VCALENDAR
PRODID:-//eluceo/ical//2.0/EN
VERSION:2.0
CALSCALE:GREGORIAN
BEGIN:VEVENT
UID:eca9a3e3e7e4dd979de42c6137ee6907
DTSTAMP:20260423T093239Z
SUMMARY:Sozialanlass Blutspende
DESCRIPTION:Die neue Besetzung des Rotaract St.Gallen trifft sich zum erste
 n Sozialanlass. Zusammen gehen wir ins Kantonsspital Blut spenden. Danach 
 werden wir gemeinsam in der Stadt zum Znacht gehen.\n\nEs wäre ausserorde
 ntlich schön\, wenn auch jene ohne Blutspendemöglichkeit mitkommen würd
 en\, um die anderen zu unterstützen... :-)\nVefsíða: http://www.blutspe
 nde-sg.ch/home.html
URL:https://rotaract-stgallen.ch/is/agenda/show/120708
DTSTART;TZID=Europe/Zurich:20151117T183000
DTEND;TZID=Europe/Zurich:20151117T183000
LOCATION:Kantonsspital St.Gallen\, Rorschacher Strasse 111
CATEGORIES:Rotaract
END:VEVENT
BEGIN:VTIMEZONE
TZID:Europe/Zurich
BEGIN:STANDARD
DTSTART:20151117T183000
TZNAME:CET
TZOFFSETTO:+0100
TZOFFSETFROM:+0100
END:STANDARD
END:VTIMEZONE
END:VCALENDAR
