BEGIN:VCALENDAR
PRODID:-//eluceo/ical//2.0/EN
VERSION:2.0
CALSCALE:GREGORIAN
BEGIN:VEVENT
UID:9af05850a3b73b0b590f4a7f1ad54a44
DTSTAMP:20260425T112011Z
SUMMARY:Eiszauber
DESCRIPTION:Am 7. Januar werden wir gemeinsam Schlittschuhlaufen und Glühw
 ein trinken. Wer mag\, kann sich dort auch verköstigen lassen. Wir freuen
  uns auf Dich! \n\n 
URL:https://rotaract-stgallen.ch/fr/agenda/show/121859
DTSTART;TZID=Europe/Zurich:20200107T190000
DTEND;TZID=Europe/Zurich:20200107T220000
LOCATION:St. Gallen\, Kreuzbleiche
CATEGORIES:Rotaract
END:VEVENT
BEGIN:VTIMEZONE
TZID:Europe/Zurich
BEGIN:STANDARD
DTSTART:20200107T190000
TZNAME:CET
TZOFFSETTO:+0100
TZOFFSETFROM:+0100
END:STANDARD
END:VTIMEZONE
END:VCALENDAR
