BEGIN:VCALENDAR
PRODID:-//eluceo/ical//2.0/EN
VERSION:2.0
CALSCALE:GREGORIAN
BEGIN:VEVENT
UID:c5bb00dd83d962e99fa25c45923f652d
DTSTAMP:20260421T100727Z
SUMMARY:Gallus Stamm
DESCRIPTION:Website: https://oya-bar.ch
URL:https://rotaract-stgallen.ch/en/agenda/show/212354
DTSTART;TZID=Europe/Zurich:20260430T190000
DTEND;TZID=Europe/Zurich:20260430T190000
LOCATION:ØYA Bar Kafé Klub\, Schwertgasse 27\, 9000 St. Gallen\, Schweiz
CATEGORIES:Rotaract
END:VEVENT
BEGIN:VTIMEZONE
TZID:Europe/Zurich
BEGIN:DAYLIGHT
DTSTART:20260430T190000
TZNAME:CEST
TZOFFSETTO:+0200
TZOFFSETFROM:+0200
END:DAYLIGHT
END:VTIMEZONE
END:VCALENDAR
