BEGIN:VCALENDAR
PRODID:-//eluceo/ical//2.0/EN
VERSION:2.0
CALSCALE:GREGORIAN
BEGIN:VEVENT
UID:9a695a32d10c99f54685bd6c2ef1f142
DTSTAMP:20260423T112014Z
SUMMARY:Stammtisch
DESCRIPTION:
URL:https://rotaract-stgallen.ch/en/agenda/show/169445
DTSTART;TZID=Europe/Zurich:20231207T183000
DTEND;TZID=Europe/Zurich:20231207T223000
LOCATION:Oya
CATEGORIES:Rotaract
END:VEVENT
BEGIN:VTIMEZONE
TZID:Europe/Zurich
BEGIN:STANDARD
DTSTART:20231207T183000
TZNAME:CET
TZOFFSETTO:+0100
TZOFFSETFROM:+0100
END:STANDARD
END:VTIMEZONE
END:VCALENDAR
