BEGIN:VCALENDAR
PRODID:-//eluceo/ical//2.0/EN
VERSION:2.0
CALSCALE:GREGORIAN
BEGIN:VEVENT
UID:533658dad82760531645aa2bd72f39df
DTSTAMP:20260425T103010Z
SUMMARY:Plauderlunch Rotary St.Gallen
DESCRIPTION:Am 22. Mai wird unser Club im Rotary Club St.Gallen vorstellig.
  Wir sind mit einer Delegation von max. 3 Personen zum Plauderlunch im Net
 ts eingeladen. First come - first serve!
URL:https://rotaract-stgallen.ch/en/agenda/show/121196
DTSTART;TZID=Europe/Zurich:20170522T121500
DTEND;TZID=Europe/Zurich:20170522T140000
LOCATION:Netts (St. Jakob-Strasse 35)
CATEGORIES:Rotaract
END:VEVENT
BEGIN:VTIMEZONE
TZID:Europe/Zurich
BEGIN:DAYLIGHT
DTSTART:20170522T121500
TZNAME:CEST
TZOFFSETTO:+0200
TZOFFSETFROM:+0200
END:DAYLIGHT
END:VTIMEZONE
END:VCALENDAR
