BEGIN:VCALENDAR
PRODID:-//eluceo/ical//2.0/EN
VERSION:2.0
CALSCALE:GREGORIAN
BEGIN:VEVENT
UID:8443a483be75eb4cc0bed553701f4b3f
DTSTAMP:20260425T103324Z
SUMMARY:Interessentenevent
DESCRIPTION:Ein Club braucht auch Mitglieder und wir möchten noch ein biss
 chen wachsen. Deshalb organisieren wir am 11. Oktober einen Interessentene
 vent. Ich bin mir sicher\, du kennst in deinem Umfeld Leute\, weiche aus d
 er Region St. Gallen kommen bzw. hier studieren. Ausserdem sollten sie ung
 efähr folgende Eigenschaften erfüllen:\n\n\nbaut sich gerne ein ausserun
 iversitäres\, weltweites Netzwerk auf\nist interessiert und bildet sich g
 erne weiter\nengagiert sich auch sozial\n\n\nDafür bietet Rotaract - du w
 eisst das ja bereits aus deiner Cluberfahrung - zahlreiche spannende Event
 s weltweit und die Möglichkeit\, sich auch später einmal innerhalb des r
 otarischen Netzwerkes weiterzubilden (RYLA\, Berufsaustausch etc.).\n\nÜb
 erlege dir doch bitte in den nächsten Tagen\, welche 1-2 Personen in dein
 em Umfeld zum RAC St. Gallen passen würden\, sprich sie an und lade sie z
 um Interessentenevent ein. Die Details:\n\n\n11. Oktober\, 18.00 Uhr\nTref
 fpunkt: Foyer Hauptgebäude HSG (an der Treppe ins OG)\n\n\nGerne darfst d
 u auch die Slides aus dem Anhang zur Werbung verwenden. Der Event ist für
  deine Kollegen/Kolleginnen überhaupt nicht verpflichtend und wird danach
  in der Newsbar ausklingen.
URL:https://rotaract-stgallen.ch/en/agenda/show/121062
DTSTART;TZID=Europe/Zurich:20161011T180000
DTEND;TZID=Europe/Zurich:20161011T180000
LOCATION:Treffpunkt A-Foyer HSG (bei der Treppe ins OG)
CATEGORIES:Rotaract
END:VEVENT
BEGIN:VTIMEZONE
TZID:Europe/Zurich
BEGIN:DAYLIGHT
DTSTART:20161011T180000
TZNAME:CEST
TZOFFSETTO:+0200
TZOFFSETFROM:+0200
END:DAYLIGHT
END:VTIMEZONE
END:VCALENDAR
