BEGIN:VCALENDAR
PRODID:-//eluceo/ical//2.0/EN
VERSION:2.0
CALSCALE:GREGORIAN
BEGIN:VEVENT
UID:01f981235cf48cc9bb4879d493af0bcc
DTSTAMP:20260421T100837Z
SUMMARY:Stammtreffen mit Bowling
DESCRIPTION:Als Start in das neue RAC Jahr findet unser Stammtreffen diesen
  Monat in Form eines gemeinsamen Bowlingabends statt.\n\nDie Kosten für B
 ahn und Schuhe werden vom Club übernommen.\n\nWir freuen uns auf Dich!\n\
 nVerbildliche Anmeldung über Website notwendig (siehe Formular untern).
URL:https://rotaract-stgallen.ch/bs/agenda/show/122338
DTSTART;TZID=Europe/Zurich:20200901T193000
DTEND;TZID=Europe/Zurich:20200901T220000
LOCATION:Starbowling AG\, Rietlistrasse 5\, 9403 Goldach
CATEGORIES:Rotaract
END:VEVENT
BEGIN:VTIMEZONE
TZID:Europe/Zurich
BEGIN:DAYLIGHT
DTSTART:20200901T193000
TZNAME:CEST
TZOFFSETTO:+0200
TZOFFSETFROM:+0200
END:DAYLIGHT
END:VTIMEZONE
END:VCALENDAR
