BEGIN:VCALENDAR
PRODID:-//eluceo/ical//2.0/EN
VERSION:2.0
CALSCALE:GREGORIAN
BEGIN:VEVENT
UID:744f842afec2419eb19f2b438ce26d2a
DTSTAMP:20260419T124300Z
SUMMARY:Stammtreffen
DESCRIPTION:Am 5. Februar findet unser monatlicher Stamm in der Newsbar in
  St.Gallen statt. Wir freuen uns auf dich! :) \n\nOn the 5th of February
 \, our monthly meeting takes place at the Newsbar in St. Gallen.  We are 
 looking forward to see you there! :)
URL:https://rotaract-stgallen.ch/bs/agenda/show/121856
DTSTART;TZID=Europe/Zurich:20190205T201500
DTEND;TZID=Europe/Zurich:20190205T220000
LOCATION:News-Bar
CATEGORIES:Rotaract
END:VEVENT
BEGIN:VTIMEZONE
TZID:Europe/Zurich
BEGIN:STANDARD
DTSTART:20190205T201500
TZNAME:CET
TZOFFSETTO:+0100
TZOFFSETFROM:+0100
END:STANDARD
END:VTIMEZONE
END:VCALENDAR
