BEGIN:VCALENDAR
PRODID:-//eluceo/ical//2.0/EN
VERSION:2.0
CALSCALE:GREGORIAN
BEGIN:VEVENT
UID:7d59e6e8b3d624e36e8ede0d190996a4
DTSTAMP:20260421T101441Z
SUMMARY:Besuch OLMA
DESCRIPTION:Am 16. Oktober treffen wir uns\, um zusammen die OLMA in St.Gal
 len zu besuchen. Jeder ist eingeladen\, einen spannenden Abend auf der OLM
 A mit uns zu verbringen\, wir freuen uns auf Dich!\n\nOn the 16th of Octob
 er we are going to the OLMA in St.Gallen. We are looking forward to an int
 eresting evening and would be happy to meet you there!
URL:https://rotaract-stgallen.ch/bs/agenda/show/121742
DTSTART;TZID=Europe/Zurich:20181016T153000
DTEND;TZID=Europe/Zurich:20181016T153000
LOCATION:OLMA St.Gallen\, Halle 4
CATEGORIES:Rotaract
END:VEVENT
BEGIN:VTIMEZONE
TZID:Europe/Zurich
BEGIN:DAYLIGHT
DTSTART:20181016T153000
TZNAME:CEST
TZOFFSETTO:+0200
TZOFFSETFROM:+0200
END:DAYLIGHT
END:VTIMEZONE
END:VCALENDAR
